BEGIN:VCALENDAR
VERSION:2.0
PRODID:-//Sabre//Sabre VObject 4.5.8//EN
CALSCALE:GREGORIAN
BEGIN:VEVENT
UID:sabre-vobject-d98a9b5b-48f6-4ce3-ae83-017eb34d3089
DTSTAMP:20260420T090855Z
SUMMARY:Tag der offenen Tür/30-jähriges Jubiläum des Kunst-Werks
DESCRIPTION:https://regioningolstadt.com/tag-der-offenen-tuer-30-jaehriges-
 jubilaeum-des-kunst-werks_id38535
DTSTART;TZID=Europe/Berlin:20250517T190000
DTEND;TZID=Europe/Berlin:20250517T220000
LOCATION:Kunst-Werk im Klenzepark e.V.\, Flankenbatterie 105\, 85051 Ingols
 tadt
END:VEVENT
END:VCALENDAR
