BEGIN:VCALENDAR
VERSION:2.0
PRODID:-//Sabre//Sabre VObject 4.5.8//EN
CALSCALE:GREGORIAN
BEGIN:VEVENT
UID:sabre-vobject-25a7a4dc-3892-4554-bf31-20939abc6ff1
DTSTAMP:20260422T131733Z
SUMMARY:Segni Mossi – Interaktive Performance
DESCRIPTION:https://regioningolstadt.com/segni-mossi-interaktive-performanc
 e_id38534
DTSTART;TZID=Europe/Berlin:20250517T173000
DURATION:PT30M
LOCATION:Sparkasseninnenhof\, \,  
END:VEVENT
END:VCALENDAR
