BEGIN:VCALENDAR
VERSION:2.0
PRODID:-//Sabre//Sabre VObject 4.5.8//EN
CALSCALE:GREGORIAN
BEGIN:VEVENT
UID:sabre-vobject-ffc5ed18-68ec-450c-920b-6cba2ac64bfd
DTSTAMP:20260422T144530Z
SUMMARY:Segni Mossi – Interaktive Performance
DESCRIPTION:https://regioningolstadt.com/segni-mossi-interaktive-performanc
 e_id38533
DTSTART;TZID=Europe/Berlin:20250517T163000
DURATION:PT30M
LOCATION:Sparkasseninnenhof\, \,  
END:VEVENT
END:VCALENDAR
