BEGIN:VCALENDAR
VERSION:2.0
PRODID:-//Sabre//Sabre VObject 4.5.8//EN
CALSCALE:GREGORIAN
BEGIN:VEVENT
UID:sabre-vobject-1a344480-df03-4ab5-84bd-2ae01d8d307b
DTSTAMP:20260423T070959Z
SUMMARY:2-tägiger Workshop „Yellow“ mit Segni Mossi
DESCRIPTION:https://regioningolstadt.com/2-taegiger-workshop-yellow-mit-seg
 ni-mossi_id38531
DTSTART;TZID=Europe/Berlin:20250517T100000
DTEND;TZID=Europe/Berlin:20250517T130000
LOCATION:Jugendfreizeitstätte Piustreff\, Furtwänglerstraße 7\, 85057 In
 golstadt
END:VEVENT
END:VCALENDAR
