BEGIN:VCALENDAR
VERSION:2.0
PRODID:-//Sabre//Sabre VObject 4.5.8//EN
CALSCALE:GREGORIAN
BEGIN:VEVENT
UID:sabre-vobject-125c1eac-8462-43d0-99e8-ab5be92996a2
DTSTAMP:20260422T142303Z
SUMMARY:Familien-Radtouren mit Begleitprogramm
DESCRIPTION:https://regioningolstadt.com/familien-radtouren-mit-begleitprog
 ramm_id38529
DTSTART;TZID=Europe/Berlin:20250511T100000
DTEND;TZID=Europe/Berlin:20250511T170000
LOCATION:Treffpunkt Parkplatz „RADHAUS“ bei der Saturn-Arena\, \,  
END:VEVENT
END:VCALENDAR
