BEGIN:VCALENDAR
VERSION:2.0
PRODID:-//Sabre//Sabre VObject 4.5.8//EN
CALSCALE:GREGORIAN
BEGIN:VEVENT
UID:sabre-vobject-dae12e48-b432-45ee-9023-6943563d3e35
DTSTAMP:20260422T071152Z
SUMMARY:Irmgard Knef „Noch da! 100 Jahr\, blondes Haar“
DESCRIPTION:https://regioningolstadt.com/irmgard-knef-noch-da-100-jahr-blon
 des-haar_id38516
DTSTART;TZID=Europe/Berlin:20251211T200000
DURATION:PT30M
LOCATION:Neue Welt\, Griesbadgasse 7\, 85049 Ingolstadt
END:VEVENT
END:VCALENDAR
