BEGIN:VCALENDAR
VERSION:2.0
PRODID:-//Sabre//Sabre VObject 4.5.8//EN
CALSCALE:GREGORIAN
BEGIN:VEVENT
UID:sabre-vobject-c4494433-cf8e-403e-adee-fec21c15cb81
DTSTAMP:20260422T142303Z
SUMMARY:Verena Richter & Markus Wagner „Frau Richter liest und macht mit 
 Herrn Burgmayer Musik“
DESCRIPTION:https://regioningolstadt.com/verena-richter-markus-wagner-frau-
 richter-liest-und-macht-mit-herrn-burgmayer-musik_id38515
DTSTART;TZID=Europe/Berlin:20251203T200000
DURATION:PT30M
LOCATION:Neue Welt\, Griesbadgasse 7\, 85049 Ingolstadt
END:VEVENT
END:VCALENDAR
