BEGIN:VCALENDAR
VERSION:2.0
PRODID:-//Sabre//Sabre VObject 4.5.8//EN
CALSCALE:GREGORIAN
BEGIN:VEVENT
UID:sabre-vobject-05a0fd9b-8c62-4ca0-96aa-8b3d1935fd99
DTSTAMP:20260422T190836Z
SUMMARY:Andreas Rebers „rein geschäftlich: Bilanz“
DESCRIPTION:https://regioningolstadt.com/andreas-rebers-rein-geschaeftlich-
 bilanz_id38514
DTSTART;TZID=Europe/Berlin:20251128T200000
DURATION:PT30M
LOCATION:Kulturzentrum neun\, Elisabethstraße 9 a\, 85051 Ingolstadt
END:VEVENT
END:VCALENDAR
