BEGIN:VCALENDAR
VERSION:2.0
PRODID:-//Sabre//Sabre VObject 4.5.8//EN
CALSCALE:GREGORIAN
BEGIN:VEVENT
UID:sabre-vobject-b5aefdf2-db40-4d10-90f1-bd790dfcec2a
DTSTAMP:20260423T084004Z
SUMMARY:Manuel Rubey & Simon Schwarz „Das Restaurant“
DESCRIPTION:https://regioningolstadt.com/manuel-rubey-simon-schwarz-das-res
 taurant_id38513
DTSTART;TZID=Europe/Berlin:20251116T200000
DURATION:PT30M
LOCATION:Kulturzentrum neun\, Elisabethstraße 9 a\, 85051 Ingolstadt
END:VEVENT
END:VCALENDAR
