BEGIN:VCALENDAR
VERSION:2.0
PRODID:-//Sabre//Sabre VObject 4.5.8//EN
CALSCALE:GREGORIAN
BEGIN:VEVENT
UID:sabre-vobject-b173ce2e-9864-4e32-a0d6-8996edda0e13
DTSTAMP:20260423T193118Z
SUMMARY:Ludwig Müller „A Ruah is“
DESCRIPTION:https://regioningolstadt.com/ludwig-mueller-a-ruah-is_id38502
DTSTART;TZID=Europe/Berlin:20250514T200000
DURATION:PT30M
LOCATION:Neue Welt\, Griesbadgasse 7\, 85049 Ingolstadt
END:VEVENT
END:VCALENDAR
