BEGIN:VCALENDAR
VERSION:2.0
PRODID:-//Sabre//Sabre VObject 4.5.8//EN
CALSCALE:GREGORIAN
BEGIN:VEVENT
UID:sabre-vobject-d5e2eadb-12c4-4f0b-89f4-7d2a6c5ef271
DTSTAMP:20260419T150126Z
SUMMARY:Malen im Westpark
DESCRIPTION:https://regioningolstadt.com/malen-im-westpark_id38501
DTSTART;TZID=Europe/Berlin:20250405T110000
DTEND;TZID=Europe/Berlin:20250405T170000
LOCATION:Westpark Plaza\, Am Westpark 6\, 85057 Ingolstadt
END:VEVENT
END:VCALENDAR
