BEGIN:VCALENDAR
VERSION:2.0
PRODID:-//Sabre//Sabre VObject 4.5.8//EN
CALSCALE:GREGORIAN
BEGIN:VEVENT
UID:sabre-vobject-5042c188-efd6-495d-82fb-12f571732905
DTSTAMP:20260420T010815Z
SUMMARY:Ralf Schmitz · Schmitzfindigkeiten
DESCRIPTION:https://regioningolstadt.com/ralf-schmitz-schmitzfindigkeiten_i
 d38466
DTSTART;TZID=Europe/Berlin:20260423T200000
DTEND;TZID=Europe/Berlin:20260423T230000
LOCATION:Saturn-Arena\, Südliche Ringstraße 64\, 85053 Ingolstadt
END:VEVENT
END:VCALENDAR
