BEGIN:VCALENDAR
VERSION:2.0
PRODID:-//Sabre//Sabre VObject 4.5.8//EN
CALSCALE:GREGORIAN
BEGIN:VEVENT
UID:sabre-vobject-7fd5dea7-2511-4d39-b3ad-51456805d4f1
DTSTAMP:20260419T134203Z
SUMMARY:Kuratorenführung  Internationaler Museumstag
DESCRIPTION:https://regioningolstadt.com/kuratorenfuehrung-internationaler-
 museumstag_id38349
DTSTART;TZID=Europe/Berlin:20250518T150000
DTEND;TZID=Europe/Berlin:20250518T160000
LOCATION:Museum für Konkrete Kunst\, Tränktorstraße 6 - 8\, 85049 Ingols
 tadt
END:VEVENT
END:VCALENDAR
