BEGIN:VCALENDAR
VERSION:2.0
PRODID:-//Sabre//Sabre VObject 4.5.8//EN
CALSCALE:GREGORIAN
BEGIN:VEVENT
UID:sabre-vobject-5af4ea2a-34fd-4851-9c80-31575234d812
DTSTAMP:20260423T005210Z
SUMMARY:Sauerhonig - ein Klassiker neu entdeckt
DESCRIPTION:https://regioningolstadt.com/sauerhonig-ein-klassiker-neu-entde
 ckt_id38318
DTSTART;TZID=Europe/Berlin:20250517T140000
DTEND;TZID=Europe/Berlin:20250517T160000
LOCATION:Piuspark\, Pavillon Imkerverein\, \, 85057 Ingolstadt
END:VEVENT
END:VCALENDAR
