BEGIN:VCALENDAR
VERSION:2.0
PRODID:-//Sabre//Sabre VObject 4.5.8//EN
CALSCALE:GREGORIAN
BEGIN:VEVENT
UID:sabre-vobject-593015b4-9e22-4783-a0e0-4c87aa8d1db3
DTSTAMP:20260423T175153Z
SUMMARY:Vortragsreihe zur Ausstellung: Ansichtssache. Menschliche Präparat
 e im Museum
DESCRIPTION:https://regioningolstadt.com/vortragsreihe-zur-ausstellung-ansi
 chtssache-menschliche-praeparate-im-museum_id38317
DTSTART;TZID=Europe/Berlin:20250514T190000
DTEND;TZID=Europe/Berlin:20250514T203000
LOCATION:Deutsches Medizinhistorisches Museum\, Anatomiestraße 18 – 20\,
  85049 Ingolstadt
END:VEVENT
END:VCALENDAR
