BEGIN:VCALENDAR
VERSION:2.0
PRODID:-//Sabre//Sabre VObject 4.5.8//EN
CALSCALE:GREGORIAN
BEGIN:VEVENT
UID:sabre-vobject-31a74d66-04b1-41a8-a068-eb5f0bb3f73d
DTSTAMP:20260423T100856Z
SUMMARY:Von der Klimabilanz zur Klimaneutralität
DESCRIPTION:https://regioningolstadt.com/von-der-klimabilanz-zur-klimaneutr
 alitaet_id38316
DTSTART;TZID=Europe/Berlin:20250514T110000
DTEND;TZID=Europe/Berlin:20250514T120000
LOCATION:Online-Veranstaltung\, \,  
END:VEVENT
END:VCALENDAR
