BEGIN:VCALENDAR
VERSION:2.0
PRODID:-//Sabre//Sabre VObject 4.5.8//EN
CALSCALE:GREGORIAN
BEGIN:VEVENT
UID:sabre-vobject-2f23b7c2-8ef8-4503-b199-40a81a94934f
DTSTAMP:20260422T040116Z
SUMMARY:Führung im Arzneipflanzengarten: Maiglöckchen & Co.
DESCRIPTION:https://regioningolstadt.com/fuehrung-im-arzneipflanzengarten-m
 aigloeckchen-co_id38314
DTSTART;TZID=Europe/Berlin:20250510T150000
DTEND;TZID=Europe/Berlin:20250510T160000
LOCATION:Deutsches Medizinhistorisches Museum\, Anatomiestraße 18 – 20\,
  85049 Ingolstadt
END:VEVENT
END:VCALENDAR
