BEGIN:VCALENDAR
VERSION:2.0
PRODID:-//Sabre//Sabre VObject 4.5.8//EN
CALSCALE:GREGORIAN
BEGIN:VEVENT
UID:sabre-vobject-92f50ad4-327c-4c03-885e-9cf1fff844a3
DTSTAMP:20260422T043954Z
SUMMARY:Life Science - Moderne Medizin: Bio-Signale des Körpers\, welche I
 nformationen enthalten sie? Und wie funktioniert ein Brain-Computer Interf
 ace? (THI FUTURELAB)
DESCRIPTION:https://regioningolstadt.com/life-science-moderne-medizin-bio-s
 ignale-des-koerpers-welche-informationen-enthalten-sie-und-wie-funktionier
 t-ein-brain-computer-interface-thi-futurelab_id38299
DTSTART;TZID=Europe/Berlin:20250329T140000
DTEND;TZID=Europe/Berlin:20250329T160000
LOCATION:Technische Hochschule Ingolstadt\, Esplanade 10\, 85049 Ingolstadt
END:VEVENT
END:VCALENDAR
