BEGIN:VCALENDAR
VERSION:2.0
PRODID:-//Sabre//Sabre VObject 4.5.8//EN
CALSCALE:GREGORIAN
BEGIN:VEVENT
UID:sabre-vobject-ea3f137d-4319-43a8-b999-4c5fc8a16b04
DTSTAMP:20260422T080111Z
SUMMARY:Das Kennfeld eines Triebwerkverdichters (THI FUTURELAB)
DESCRIPTION:https://regioningolstadt.com/das-kennfeld-eines-triebwerkverdic
 hters-thi-futurelab_id38298
DTSTART;TZID=Europe/Berlin:20250329T140000
DTEND;TZID=Europe/Berlin:20250329T144500
LOCATION:Technische Hochschule Ingolstadt\, Esplanade 10\, 85049 Ingolstadt
END:VEVENT
END:VCALENDAR
