BEGIN:VCALENDAR
VERSION:2.0
PRODID:-//Sabre//Sabre VObject 4.5.8//EN
CALSCALE:GREGORIAN
BEGIN:VEVENT
UID:sabre-vobject-0bad30cb-ad4f-4416-ac09-7488056205c9
DTSTAMP:20260422T030534Z
SUMMARY:Social Media mit Data Science entdecken (THI FUTURELAB)
DESCRIPTION:https://regioningolstadt.com/social-media-mit-data-science-entd
 ecken-thi-futurelab_id38297
DTSTART;TZID=Europe/Berlin:20250329T140000
DTEND;TZID=Europe/Berlin:20250329T160000
LOCATION:Technische Hochschule Ingolstadt\, Esplanade 10\, 85049 Ingolstadt
END:VEVENT
END:VCALENDAR
