BEGIN:VCALENDAR
VERSION:2.0
PRODID:-//Sabre//Sabre VObject 4.5.8//EN
CALSCALE:GREGORIAN
BEGIN:VEVENT
UID:sabre-vobject-1b9b1a5e-e527-4297-b973-da812b510ce0
DTSTAMP:20260422T014401Z
SUMMARY:Wie Künstliche Intelligenz das Spielen lernt (THI FUTURELAB)
DESCRIPTION:https://regioningolstadt.com/wie-kuenstliche-intelligenz-das-sp
 ielen-lernt-thi-futurelab_id38296
DTSTART;TZID=Europe/Berlin:20250329T140000
DTEND;TZID=Europe/Berlin:20250329T160000
LOCATION:Technische Hochschule Ingolstadt\, Esplanade 10\, 85049 Ingolstadt
END:VEVENT
END:VCALENDAR
