BEGIN:VCALENDAR
VERSION:2.0
PRODID:-//Sabre//Sabre VObject 4.5.8//EN
CALSCALE:GREGORIAN
BEGIN:VEVENT
UID:sabre-vobject-486914b9-c2aa-4087-ad15-913407defbcc
DTSTAMP:20260422T092152Z
SUMMARY:Hochschulinformationstag
DESCRIPTION:https://regioningolstadt.com/hochschulinformationstag_id38295
DTSTART;TZID=Europe/Berlin:20250329T100000
DTEND;TZID=Europe/Berlin:20250329T140000
LOCATION:Technische Hochschule Ingolstadt\, Esplanade 10\, 85049 Ingolstadt
END:VEVENT
END:VCALENDAR
