BEGIN:VCALENDAR
VERSION:2.0
PRODID:-//Sabre//Sabre VObject 4.5.8//EN
CALSCALE:GREGORIAN
BEGIN:VEVENT
UID:sabre-vobject-62770949-3e43-4556-b6a9-7bd2afb0dca8
DTSTAMP:20260422T234137Z
SUMMARY:Frühlingskonzert des IKO - La Dolce Vita
DESCRIPTION:https://regioningolstadt.com/fruehlingskonzert-des-iko-la-dolce
 -vita_id38265
DTSTART;TZID=Europe/Berlin:20250511T170000
DTEND;TZID=Europe/Berlin:20250511T190000
LOCATION:Bauerngerätemuseum\, Probststraße 13\, 85049 Ingolstadt
END:VEVENT
END:VCALENDAR
