BEGIN:VCALENDAR
VERSION:2.0
PRODID:-//Sabre//Sabre VObject 4.5.8//EN
CALSCALE:GREGORIAN
BEGIN:VEVENT
UID:sabre-vobject-5fedb479-c6e7-486b-92a3-6b10b2f45f80
DTSTAMP:20260422T100316Z
SUMMARY:Konzert Orgel + Gesang
DESCRIPTION:https://regioningolstadt.com/konzert-orgel-gesang_id38264
DTSTART;TZID=Europe/Berlin:20250510T180000
DTEND;TZID=Europe/Berlin:20250510T200000
LOCATION:St. Markus\, Münchener Str. 36\, 85051 Ingolstadt
END:VEVENT
END:VCALENDAR
