BEGIN:VCALENDAR
VERSION:2.0
PRODID:-//Sabre//Sabre VObject 4.5.8//EN
CALSCALE:GREGORIAN
BEGIN:VEVENT
UID:sabre-vobject-e9f36747-c99c-4702-9be2-0ac28d391969
DTSTAMP:20260424T015651Z
SUMMARY:Don't worry\, be MAGIC - 28. Ingolstädter Zaubertage
DESCRIPTION:https://regioningolstadt.com/don-t-worry-be-magic-28-ingolstaed
 ter-zaubertage_id38247
DTSTART;TZID=Europe/Berlin:20251109T190000
DTEND;TZID=Europe/Berlin:20251109T210000
LOCATION:Altstadttheater\, Kanalstraße 1 a\, 85049 Ingolstadt
END:VEVENT
END:VCALENDAR
