BEGIN:VCALENDAR
VERSION:2.0
PRODID:-//Sabre//Sabre VObject 4.5.8//EN
CALSCALE:GREGORIAN
BEGIN:VEVENT
UID:sabre-vobject-4d976a5a-2aa8-4cba-8338-893250ebec51
DTSTAMP:20260424T033238Z
SUMMARY:Kinder im Zauberland - 28. Ingolstädter Zaubertage
DESCRIPTION:https://regioningolstadt.com/kinder-im-zauberland-28-ingolstaed
 ter-zaubertage_id38246
DTSTART;TZID=Europe/Berlin:20251109T160000
DTEND;TZID=Europe/Berlin:20251109T170000
LOCATION:Altstadttheater\, Kanalstraße 1 a\, 85049 Ingolstadt
END:VEVENT
END:VCALENDAR
