BEGIN:VCALENDAR
VERSION:2.0
PRODID:-//Sabre//Sabre VObject 4.5.8//EN
CALSCALE:GREGORIAN
BEGIN:VEVENT
UID:sabre-vobject-9a6448c0-db6b-4927-8518-3805fc660c7f
DTSTAMP:20260424T045815Z
SUMMARY:Kinder im Zauberland - 28. Ingolstädter Zaubertage
DESCRIPTION:https://regioningolstadt.com/kinder-im-zauberland-28-ingolstaed
 ter-zaubertage_id38245
DTSTART;TZID=Europe/Berlin:20251109T140000
DTEND;TZID=Europe/Berlin:20251109T150000
LOCATION:Altstadttheater\, Kanalstraße 1 a\, 85049 Ingolstadt
END:VEVENT
END:VCALENDAR
