BEGIN:VCALENDAR
VERSION:2.0
PRODID:-//Sabre//Sabre VObject 4.5.8//EN
CALSCALE:GREGORIAN
BEGIN:VEVENT
UID:sabre-vobject-e550947f-a61e-4b17-80fc-2556d254118a
DTSTAMP:20260424T080352Z
SUMMARY:Don't worry\, be MAGIC - 28. Ingolstädter Zaubertage
DESCRIPTION:https://regioningolstadt.com/don-t-worry-be-magic-28-ingolstaed
 ter-zaubertage_id38244
DTSTART;TZID=Europe/Berlin:20251108T190000
DTEND;TZID=Europe/Berlin:20251108T210000
LOCATION:Zum Gutmann\, Am Graben 36\, 85072 Eichstätt
END:VEVENT
END:VCALENDAR
