BEGIN:VCALENDAR
VERSION:2.0
PRODID:-//Sabre//Sabre VObject 4.5.8//EN
CALSCALE:GREGORIAN
BEGIN:VEVENT
UID:sabre-vobject-d31be315-6a87-467a-be4e-bc75cf43de4e
DTSTAMP:20260424T093505Z
SUMMARY:Kinder im Zauberland - 28. Ingolstädter Zaubertage
DESCRIPTION:https://regioningolstadt.com/kinder-im-zauberland-28-ingolstaed
 ter-zaubertage_id38243
DTSTART;TZID=Europe/Berlin:20251108T160000
DTEND;TZID=Europe/Berlin:20251108T170000
LOCATION:Zum Gutmann\, Am Graben 36\, 85072 Eichstätt
END:VEVENT
END:VCALENDAR
