BEGIN:VCALENDAR
VERSION:2.0
PRODID:-//Sabre//Sabre VObject 4.5.8//EN
CALSCALE:GREGORIAN
BEGIN:VEVENT
UID:sabre-vobject-51cc09ae-76d9-4bad-8205-d73e1fdf6272
DTSTAMP:20260424T172545Z
SUMMARY:Magic Dinner - 28. Ingolstädter Zaubertage
DESCRIPTION:https://regioningolstadt.com/magic-dinner-28-ingolstaedter-zaub
 ertage_id38241
DTSTART;TZID=Europe/Berlin:20251107T190000
DTEND;TZID=Europe/Berlin:20251107T220000
LOCATION:Hotel Domizil\, Feldkirchner Straße 69\, 85055 Ingolstadt
END:VEVENT
END:VCALENDAR
