BEGIN:VCALENDAR
VERSION:2.0
PRODID:-//Sabre//Sabre VObject 4.5.8//EN
CALSCALE:GREGORIAN
BEGIN:VEVENT
UID:sabre-vobject-e47f1edd-a155-4492-a1a8-d856274b2b2f
DTSTAMP:20260420T173021Z
SUMMARY:Demokratie stärken  Rechtsextremismus bekämpfen
DESCRIPTION:https://regioningolstadt.com/demokratie-staerken-rechtsextremis
 mus-bekaempfen_id38226
DTSTART;TZID=Europe/Berlin:20250402T150000
DTEND;TZID=Europe/Berlin:20250410T180000
LOCATION:Wissenschaftsforum am Zukunftscampus (Georgianum Ingolstadt)\, Hoh
 e-Schul-Straße 5 (Eingang Goldknopfgasse)\, 85049 Ingolstadt
END:VEVENT
END:VCALENDAR
