BEGIN:VCALENDAR
VERSION:2.0
PRODID:-//Sabre//Sabre VObject 4.5.8//EN
CALSCALE:GREGORIAN
BEGIN:VEVENT
UID:sabre-vobject-5526a9b9-c99c-4fcf-925d-581e9ad0f7a5
DTSTAMP:20260420T190402Z
SUMMARY:Vernissage Demokratie für alle?! Wie wir Vielfalt leben und Extrem
 ismus begegnen
DESCRIPTION:https://regioningolstadt.com/vernissage-demokratie-fuer-alle-wi
 e-wir-vielfalt-leben-und-extremismus-begegnen_id38225
DTSTART;TZID=Europe/Berlin:20250401T180000
DTEND;TZID=Europe/Berlin:20250401T200000
LOCATION:Wissenschaftsforum am Zukunftscampus (Georgianum Ingolstadt)\, Hoh
 e-Schul-Straße 5 (Eingang Goldknopfgasse)\, 85049 Ingolstadt
END:VEVENT
END:VCALENDAR
