BEGIN:VCALENDAR
VERSION:2.0
PRODID:-//Sabre//Sabre VObject 4.5.8//EN
CALSCALE:GREGORIAN
BEGIN:VEVENT
UID:sabre-vobject-c915ee84-3ed2-47f9-9a86-b67dddbc365e
DTSTAMP:20260421T162841Z
SUMMARY:Horizonte Malerei von Sonja Reuthlinger
DESCRIPTION:https://regioningolstadt.com/horizonte-malerei-von-sonja-reuthl
 inger_id38223
DTSTART;TZID=Europe/Berlin:20250329T190000
DTEND;TZID=Europe/Berlin:20250421T180000
LOCATION:Städtische Galerie in der Harderbastei Ingolstadt\, Oberer Graben
  55\, 85049 Ingolstadt
END:VEVENT
END:VCALENDAR
