BEGIN:VCALENDAR
VERSION:2.0
PRODID:-//Sabre//Sabre VObject 4.5.8//EN
CALSCALE:GREGORIAN
BEGIN:VEVENT
UID:sabre-vobject-1f8b269b-eeb6-4015-a42c-5f685feb0d12
DTSTAMP:20260421T235705Z
SUMMARY:Valkentreiger
DESCRIPTION:https://regioningolstadt.com/valkentreiger_id38222
DTSTART;TZID=Europe/Berlin:20250322T190000
DTEND;TZID=Europe/Berlin:20250322T230000
LOCATION:Neue Welt\, Griesbadgasse 7\, 85049 Ingolstadt
END:VEVENT
END:VCALENDAR
