BEGIN:VCALENDAR
VERSION:2.0
PRODID:-//Sabre//Sabre VObject 4.5.8//EN
CALSCALE:GREGORIAN
BEGIN:VEVENT
UID:sabre-vobject-2e5cc3c0-0c91-449c-8857-1e979a8e8610
DTSTAMP:20260421T071209Z
SUMMARY:Antonín Dvoráks Stabat Mater
DESCRIPTION:https://regioningolstadt.com/antonin-dvoraks-stabat-mater_id380
 60
DTSTART;TZID=Europe/Berlin:20250330T190000
DURATION:PT30M
LOCATION:Festsaal des Stadttheaters Ingolstadt\, Schloßlände 1\, 85049 In
 golstadt
END:VEVENT
END:VCALENDAR
