BEGIN:VCALENDAR
VERSION:2.0
PRODID:-//Sabre//Sabre VObject 4.5.8//EN
CALSCALE:GREGORIAN
BEGIN:VEVENT
UID:sabre-vobject-4675ea4f-26bd-4a8a-9960-7180450261bd
DTSTAMP:20260422T145732Z
SUMMARY:Fotoausstellung "Gletscher\, Eis und Schnee" zum Weltwassertag- Aus
 stellung mit Vernissage
DESCRIPTION:https://regioningolstadt.com/fotoausstellung-gletscher-eis-und-
 schnee-zum-weltwassertag-ausstellung-mit-vernissage_id38059
DTSTART;TZID=Europe/Berlin:20250324T173000
DTEND;TZID=Europe/Berlin:20250416T000000
LOCATION:Wasserwirtschaftsamt Ingolstadt\, Auf der Schanz 26\, 85049 Ingols
 tadt
END:VEVENT
END:VCALENDAR
