BEGIN:VCALENDAR
VERSION:2.0
PRODID:-//Sabre//Sabre VObject 4.5.8//EN
CALSCALE:GREGORIAN
BEGIN:VEVENT
UID:sabre-vobject-b4266c94-d7d5-4659-871a-96ee6c1e7b12
DTSTAMP:20260423T084004Z
SUMMARY:Radtour ins Brenztal
DESCRIPTION:https://regioningolstadt.com/radtour-ins-brenztal_id38052
DTSTART;TZID=Europe/Berlin:20250514T085000
DTEND;TZID=Europe/Berlin:20250514T180000
LOCATION:Hauptbahnhof Ingolstadt\, Bahnhofstraße 8\, 85051 Ingolstadt
END:VEVENT
END:VCALENDAR
