BEGIN:VCALENDAR
VERSION:2.0
PRODID:-//Sabre//Sabre VObject 4.5.8//EN
CALSCALE:GREGORIAN
BEGIN:VEVENT
UID:sabre-vobject-b11955d6-7500-4248-af8c-7182271cd37a
DTSTAMP:20260421T191516Z
SUMMARY:Radtour: Zwei-Seen-Runde Hahnenkamm und Altmühlsee
DESCRIPTION:https://regioningolstadt.com/radtour-zwei-seen-runde-hahnenkamm
 -und-altmuehlsee_id38051
DTSTART;TZID=Europe/Berlin:20250510T081500
DTEND;TZID=Europe/Berlin:20250510T170000
LOCATION:Hauptbahnhof Ingolstadt\, Bahnhofstraße 8\, 85051 Ingolstadt
END:VEVENT
END:VCALENDAR
