BEGIN:VCALENDAR
VERSION:2.0
PRODID:-//Sabre//Sabre VObject 4.5.8//EN
CALSCALE:GREGORIAN
BEGIN:VEVENT
UID:sabre-vobject-bceb0d54-0277-49ce-9342-a18d268d3a3a
DTSTAMP:20260421T053908Z
SUMMARY:Waldbaden  Zuhause achtsam Entspannen  Onlinekurs
DESCRIPTION:https://regioningolstadt.com/waldbaden-zuhause-achtsam-entspann
 en-onlinekurs_id38048
DTSTART;TZID=Europe/Berlin:20250330T190000
DTEND;TZID=Europe/Berlin:20250330T203000
LOCATION:Zucheringer Wald\, \,  
END:VEVENT
END:VCALENDAR
