BEGIN:VCALENDAR
VERSION:2.0
PRODID:-//Sabre//Sabre VObject 4.5.8//EN
CALSCALE:GREGORIAN
BEGIN:VEVENT
UID:sabre-vobject-c410379e-f769-415a-b857-6852f0946527
DTSTAMP:20260420T033025Z
SUMMARY:Radlertreff
DESCRIPTION:https://regioningolstadt.com/radlertreff_id37930
DTSTART;TZID=Europe/Berlin:20250403T190000
DTEND;TZID=Europe/Berlin:20250403T213000
LOCATION:DJK Vereinsgaststätte\, Lindberghstraße 73\, 85051 Ingolstadt
END:VEVENT
END:VCALENDAR
