BEGIN:VCALENDAR
VERSION:2.0
PRODID:-//Sabre//Sabre VObject 4.5.8//EN
CALSCALE:GREGORIAN
BEGIN:VEVENT
UID:sabre-vobject-72207d40-8ae0-41eb-8bec-fc4bbfff31b2
DTSTAMP:20260420T045509Z
SUMMARY:Workshop für die App Komoot
DESCRIPTION:https://regioningolstadt.com/workshop-fuer-die-app-komoot_id379
 29
DTSTART;TZID=Europe/Berlin:20250403T180000
DTEND;TZID=Europe/Berlin:20250403T190000
LOCATION:DJK Vereinsgaststätte\, Lindberghstraße 73\, 85051 Ingolstadt
END:VEVENT
END:VCALENDAR
