BEGIN:VCALENDAR
VERSION:2.0
PRODID:-//Sabre//Sabre VObject 4.5.8//EN
CALSCALE:GREGORIAN
BEGIN:VEVENT
UID:sabre-vobject-1ef3d9fe-5328-4d34-b3d8-888c8669ab50
DTSTAMP:20260422T134013Z
SUMMARY:MITMACHAKTION: Paw Patrol
DESCRIPTION:https://regioningolstadt.com/mitmachaktion-paw-patrol_id37926
DTSTART;TZID=Europe/Berlin:20250324T110000
DTEND;TZID=Europe/Berlin:20250324T170000
LOCATION:Hugendubel Ingolstadt Theresienstraße\, Theresienstraße 4\, 8504
 9 Ingolstadt
END:VEVENT
END:VCALENDAR
