BEGIN:VCALENDAR
VERSION:2.0
PRODID:-//Sabre//Sabre VObject 4.5.8//EN
CALSCALE:GREGORIAN
BEGIN:VEVENT
UID:sabre-vobject-0cde5200-8115-4b7b-ac12-f162ea61fb7f
DTSTAMP:20260422T220946Z
SUMMARY:Abendstunde mit Bach und Cello
DESCRIPTION:https://regioningolstadt.com/abendstunde-mit-bach-und-cello_id3
 7915
DTSTART;TZID=Europe/Berlin:20250511T170000
DTEND;TZID=Europe/Berlin:20250511T180000
LOCATION:Barocksaal im Stadtmuseum Ingolstadt\, Auf der Schanz 45\, 85049 I
 ngolstadt
END:VEVENT
END:VCALENDAR
