BEGIN:VCALENDAR
VERSION:2.0
PRODID:-//Sabre//Sabre VObject 4.5.8//EN
CALSCALE:GREGORIAN
BEGIN:VEVENT
UID:sabre-vobject-5532e427-cd10-4ba2-b5f1-b4beb8600377
DTSTAMP:20260419T164806Z
SUMMARY:Ingolstädter Literaturtage - Eröffnung
DESCRIPTION:https://regioningolstadt.com/ingolstaedter-literaturtage-eroeff
 nung_id37904
DTSTART;TZID=Europe/Berlin:20250404T200000
DURATION:PT30M
LOCATION:Studio im Herzogskasten\, Hallstraße 2 - 4\, 85049 Ingolstadt
END:VEVENT
END:VCALENDAR
