BEGIN:VCALENDAR
VERSION:2.0
PRODID:-//Sabre//Sabre VObject 4.5.8//EN
CALSCALE:GREGORIAN
BEGIN:VEVENT
UID:sabre-vobject-99f449a6-7844-47aa-977b-b6bccb827d02
DTSTAMP:20260419T194632Z
SUMMARY:Nacht der Bibliotheken
DESCRIPTION:https://regioningolstadt.com/nacht-der-bibliotheken_id37903
DTSTART;TZID=Europe/Berlin:20250404T180000
DTEND;TZID=Europe/Berlin:20250404T220000
LOCATION:Zentrum Stadtgeschichte\, \,  
END:VEVENT
END:VCALENDAR
