BEGIN:VCALENDAR
VERSION:2.0
PRODID:-//Sabre//Sabre VObject 4.5.8//EN
CALSCALE:GREGORIAN
BEGIN:VEVENT
UID:sabre-vobject-67d74934-6e32-4013-96a8-2d7f65925b4e
DTSTAMP:20260423T013317Z
SUMMARY:Engagementspaziergang durch die Innenstadt
DESCRIPTION:https://regioningolstadt.com/engagementspaziergang-durch-die-in
 nenstadt_id37902
DTSTART;TZID=Europe/Berlin:20250326T150000
DTEND;TZID=Europe/Berlin:20250326T183000
LOCATION:Bürgerhaus Neuburger Kasten\, Garten\, Fechtgasse 6\, 85049 Ingol
 stadt
END:VEVENT
END:VCALENDAR
