BEGIN:VCALENDAR
VERSION:2.0
PRODID:-//Sabre//Sabre VObject 4.5.8//EN
CALSCALE:GREGORIAN
BEGIN:VEVENT
UID:sabre-vobject-6201b4c9-9626-407a-b53b-9bb105374306
DTSTAMP:20260421T024907Z
SUMMARY:Profil zeigen - für eine starke Demokratie
DESCRIPTION:https://regioningolstadt.com/profil-zeigen-fuer-eine-starke-dem
 okratie_id37900
DTSTART;TZID=Europe/Berlin:20250320T173000
DTEND;TZID=Europe/Berlin:20250320T210000
LOCATION:Amt für Soziales\, \,  
END:VEVENT
END:VCALENDAR
