BEGIN:VCALENDAR
VERSION:2.0
PRODID:-//Sabre//Sabre VObject 4.5.8//EN
CALSCALE:GREGORIAN
BEGIN:VEVENT
UID:sabre-vobject-ef513859-78c2-43c2-94dd-788cbb7b1299
DTSTAMP:20260422T042205Z
SUMMARY:Szenische Erlebnisführung: Goldene Augenblicke - Frauengeschichte(
 n) von der Bronzezeit bis heute
DESCRIPTION:https://regioningolstadt.com/szenische-erlebnisfuehrung-goldene
 -augenblicke-frauengeschichte-n-von-der-bronzezeit-bis-heute_id37886
DTSTART;TZID=Europe/Berlin:20250323T110000
DURATION:PT30M
LOCATION:Stadtmuseum im Kavalier Hepp\, Auf der Schanz 45\, 85049 Ingolstad
 t
END:VEVENT
END:VCALENDAR
