BEGIN:VCALENDAR
VERSION:2.0
PRODID:-//Sabre//Sabre VObject 4.5.8//EN
CALSCALE:GREGORIAN
BEGIN:VEVENT
UID:sabre-vobject-e4ac12b8-83e9-4c21-9939-8c130d467332
DTSTAMP:20260421T191944Z
SUMMARY:Szenische Erlebnisführung: Goldene Augenblicke - Frauengeschichte(
 n) von der Bronzezeit bis heute
DESCRIPTION:https://regioningolstadt.com/szenische-erlebnisfuehrung-goldene
 -augenblicke-frauengeschichte-n-von-der-bronzezeit-bis-heute_id37885
DTSTART;TZID=Europe/Berlin:20250322T150000
DURATION:PT30M
LOCATION:Stadtmuseum im Kavalier Hepp\, Auf der Schanz 45\, 85049 Ingolstad
 t
END:VEVENT
END:VCALENDAR
