BEGIN:VCALENDAR
VERSION:2.0
PRODID:-//Sabre//Sabre VObject 4.5.8//EN
CALSCALE:GREGORIAN
BEGIN:VEVENT
UID:sabre-vobject-64962c1b-e62a-4628-a1f7-e9aa9ae4f9a7
DTSTAMP:20260421T162303Z
SUMMARY:Geschichte am Kaffeetisch
DESCRIPTION:https://regioningolstadt.com/geschichte-am-kaffeetisch_id37881
DTSTART;TZID=Europe/Berlin:20250330T150000
DTEND;TZID=Europe/Berlin:20250330T160000
LOCATION:Zentrum Stadtgeschichte\, \,  
END:VEVENT
END:VCALENDAR
